BEGIN:VCALENDAR
VERSION:2.0
PRODID:-//wp-events-plugin.com//6.6.5//EN
TZID:Europe/Amsterdam
X-WR-TIMEZONE:Europe/Amsterdam
BEGIN:VEVENT
UID:2-1410@offshorewind.biz
DTSTART:20220607T000000Z
DTEND:20220610T000000Z
DTSTAMP:20220222T080253Z
URL:https://www.offshorewind.biz/events/uk-renewable-academy-introduction-
 to-offshore-wind/
SUMMARY:UK Renewable Academy: Introduction to Offshore Wind
DESCRIPTION:UK Renewable Academy: Introduction to Offshore Wind is taking p
 lace in Teesside on 7 - 10 June 2022.\n\nThe UK's first renewable energy c
 ourse which is specifically targeted at educating energy professionals abo
 ut offshore wind and hydrogen.\n\nNetworking lunches\, drinks and dinners 
 with other delegates and speakers shall be arranged daily.\n\nAll of the c
 ourses are taught by industry experts and on the final day\, delegates wil
 l visit an offshore wind fabrication yard and travel on a vessel to see an
  offshore wind farm in operation.\n\nSecure your place today!\n\nLink to w
 ebsite: Renewable Energy Training Courses | UK Renewables Academy | Stoke
 sley (ukra.co.uk)\n\nRegistration link: BOOKING | Renewables Academy (ukr
 a.co.uk)\n\n 
ATTACH;FMTTYPE=image/jpeg:https://www.offshorewind.biz/wp-content/uploads/
 sites/2/2022/02/Banner-728x90-1.png
LOCATION:Teesside University\, Teesside University\, Teesside University\, 
 United Kingdom
X-APPLE-STRUCTURED-LOCATION;VALUE=URI;X-ADDRESS=Teesside University\, Teess
 ide University\, United Kingdom;X-APPLE-RADIUS=100;X-TITLE=Teesside Univer
 sity:geo:0,0
END:VEVENT
END:VCALENDAR