BEGIN:VCALENDAR
VERSION:2.0
PRODID:-//wp-events-plugin.com//6.6.5//EN
TZID:Europe/Amsterdam
X-WR-TIMEZONE:Europe/Amsterdam
BEGIN:VEVENT
UID:2-1236@offshorewind.biz
DTSTART:20191111T000000Z
DTEND:20191112T000000Z
DTSTAMP:20190729T120057Z
URL:https://www.offshorewind.biz/events/offshore-floating-wind-europe-2019
 /
SUMMARY:Offshore &amp\; Floating Wind Europe 2019
DESCRIPTION:#OWEU19 is a meeting place for governments\, developers and sup
 pliers to grow the confidence in wind power. Perfect to grow your business
  by securing new customers\, meeting officials and industry heads.
ATTACH;FMTTYPE=image/jpeg:https://www.offshorewind.biz/wp-content/uploads/
 sites/2/2019/06/OWEU19-334x180.png
LOCATION:Hilton London Canary Wharf\, South Quay\, Marsh Wall\, \, London\,
  E14 9SH\, United Kingdom
X-APPLE-STRUCTURED-LOCATION;VALUE=URI;X-ADDRESS=South Quay\, Marsh Wall\, \
 , London\, E14 9SH\, United Kingdom;X-APPLE-RADIUS=100;X-TITLE=Hilton Lond
 on Canary Wharf:geo:0,0
END:VEVENT
END:VCALENDAR